BEGIN:VCALENDAR
VERSION:2.0
PRODID:-//Innovate78 - ECPv6.0.13.1//NONSGML v1.0//EN
CALSCALE:GREGORIAN
METHOD:PUBLISH
X-WR-CALNAME:Innovate78
X-ORIGINAL-URL:https://www.innovate78.com
X-WR-CALDESC:Events for Innovate78
REFRESH-INTERVAL;VALUE=DURATION:PT1H
X-Robots-Tag:noindex
X-PUBLISHED-TTL:PT1H
BEGIN:VTIMEZONE
TZID:America/Los_Angeles
BEGIN:DAYLIGHT
TZOFFSETFROM:-0800
TZOFFSETTO:-0700
TZNAME:PDT
DTSTART:20200308T100000
END:DAYLIGHT
BEGIN:STANDARD
TZOFFSETFROM:-0700
TZOFFSETTO:-0800
TZNAME:PST
DTSTART:20201101T090000
END:STANDARD
END:VTIMEZONE
BEGIN:VEVENT
DTSTART;VALUE=DATE:20201001
DTEND;VALUE=DATE:20201031
DTSTAMP:20260425T044511
CREATED:20201001T182343Z
LAST-MODIFIED:20201014T174116Z
UID:1162-1601510400-1604102399@www.innovate78.com
SUMMARY:San Diego Startup Month
DESCRIPTION:Coming to you virtually this October\, is the inaugural San Diego Startup Month\, a month-long series of virtual content and experiences that will bring together entrepreneurs\, investors\, mentors\, executives\, and talent to connect\, educate\, and inspire the San Diego innovation ecosystem. \nGet your ticket to the first event of its kind. You won’t want to miss it! https://www.sandiegostartupweek.com/#tickets
URL:https://www.innovate78.com/event/san-diego-startup-month/
LOCATION:CA
CATEGORIES:Startups
ATTACH;FMTTYPE=image/jpeg:https://www.innovate78.com/wp-content/uploads/2020/10/sdsm.jpg
END:VEVENT
BEGIN:VEVENT
DTSTART;TZID=America/Los_Angeles:20201020T083000
DTEND;TZID=America/Los_Angeles:20201020T093000
DTSTAMP:20260425T044511
CREATED:20201012T220232Z
LAST-MODIFIED:20201014T174101Z
UID:1457-1603182600-1603186200@www.innovate78.com
SUMMARY:International recruitment and talent retention in the new virtual world
DESCRIPTION:Over the last six months we have seen an unprecedented level of change across the workplace. For any business looking to expand internationally\, having the right recruitment and talent retention strategies in place is vital. Our experts will share how businesses can prepare for and understand best practices in relation to international recruitment and talent retention.
URL:https://www.innovate78.com/event/international-recruitment-and-talent-retention-in-the-new-virtual-world/
LOCATION:CA
CATEGORIES:Startups
ATTACH;FMTTYPE=image/jpeg:https://www.innovate78.com/wp-content/uploads/2020/10/adeolu-eletu-E7RLgUjjazc-unsplash.jpg
END:VEVENT
BEGIN:VEVENT
DTSTART;TZID=America/Los_Angeles:20201020T083000
DTEND;TZID=America/Los_Angeles:20201020T173000
DTSTAMP:20260425T044511
CREATED:20201012T204704Z
LAST-MODIFIED:20201014T174022Z
UID:1443-1603182600-1603215000@www.innovate78.com
SUMMARY:Career Exploration Day & Virtual Career Fair
DESCRIPTION:Through its new initiative\, Advancing San Diego\, San Diego Regional EDC is hosting a FREE virtual industry event that will bring together employers and students of San Diego schools for a day of career exploration\, professional development\, company information sessions\, peer learning\, and networking. Open to local high school and college students\, the event welcomes those with diverse education backgrounds and majors to make valuable connections to San Diego companies and learn more about career opportunities in industries that continue to grow despite economic uncertainty.
URL:https://www.innovate78.com/event/career-exploration-day-virtual-career-fair/
LOCATION:CA
CATEGORIES:Startups
ATTACH;FMTTYPE=image/jpeg:https://www.innovate78.com/wp-content/uploads/2020/10/joshua-hoehne-iggWDxHTAUQ-unsplash.jpg
END:VEVENT
END:VCALENDAR