BEGIN:VCALENDAR
VERSION:2.0
PRODID:-//Innovate78 - ECPv6.0.13.1//NONSGML v1.0//EN
CALSCALE:GREGORIAN
METHOD:PUBLISH
X-WR-CALNAME:Innovate78
X-ORIGINAL-URL:https://www.innovate78.com
X-WR-CALDESC:Events for Innovate78
REFRESH-INTERVAL;VALUE=DURATION:PT1H
X-Robots-Tag:noindex
X-PUBLISHED-TTL:PT1H
BEGIN:VTIMEZONE
TZID:America/Los_Angeles
BEGIN:DAYLIGHT
TZOFFSETFROM:-0800
TZOFFSETTO:-0700
TZNAME:PDT
DTSTART:20200308T100000
END:DAYLIGHT
BEGIN:STANDARD
TZOFFSETFROM:-0700
TZOFFSETTO:-0800
TZNAME:PST
DTSTART:20201101T090000
END:STANDARD
END:VTIMEZONE
BEGIN:VEVENT
DTSTART;TZID=America/Los_Angeles:20201113T090000
DTEND;TZID=America/Los_Angeles:20201113T100000
DTSTAMP:20260425T033420
CREATED:20201102T220757Z
LAST-MODIFIED:20201102T220757Z
UID:1808-1605258000-1605261600@www.innovate78.com
SUMMARY:REPLACING OUTDATED MARKETING TACTICS WITH DIGITAL ELEVATION
DESCRIPTION:Digital marketing specialists Aaron Gobidas and Morgan Cohen from GoBe Rewarded join us to help you elevate your outdated marketing tactics. Hear some of the best ways to invest effectively in digital advertising on Friday\, November 13th from 9 AM – 10 AM on Zoom. In this session you will learn: \n– The importance of a good quality website \n– How to build credibility and reach more consumers \n– Off page listings and on page SEO \n– The importance of branding \n– How COVID-19 has changed the importance of online marketing \n– Paid advertising
URL:https://www.innovate78.com/event/replacing-outdated-marketing-tactics-with-digital-elevation/
LOCATION:CA
ATTACH;FMTTYPE=image/jpeg:https://www.innovate78.com/wp-content/uploads/2020/11/campaign-creators-yktK2qaiVHI-unsplash.jpg
END:VEVENT
END:VCALENDAR