BEGIN:VCALENDAR
VERSION:2.0
PRODID:-//Innovate78 - ECPv6.0.13.1//NONSGML v1.0//EN
CALSCALE:GREGORIAN
METHOD:PUBLISH
X-ORIGINAL-URL:https://www.innovate78.com
X-WR-CALDESC:Events for Innovate78
REFRESH-INTERVAL;VALUE=DURATION:PT1H
X-Robots-Tag:noindex
X-PUBLISHED-TTL:PT1H
BEGIN:VTIMEZONE
TZID:America/Los_Angeles
BEGIN:DAYLIGHT
TZOFFSETFROM:-0800
TZOFFSETTO:-0700
TZNAME:PDT
DTSTART:20210314T100000
END:DAYLIGHT
BEGIN:STANDARD
TZOFFSETFROM:-0700
TZOFFSETTO:-0800
TZNAME:PST
DTSTART:20211107T090000
END:STANDARD
END:VTIMEZONE
BEGIN:VEVENT
DTSTART;VALUE=DATE:20211001
DTEND;VALUE=DATE:20211030
DTSTAMP:20260424T145225
CREATED:20210923T212022Z
LAST-MODIFIED:20211025T203539Z
UID:2862-1633046400-1635551999@www.innovate78.com
SUMMARY:San Diego Startup Month
DESCRIPTION:Enjoy a month of in-person and virtual content and experiences that bring together entrepreneurs\, investors\, mentors\, executives and talent to connect\, educate and inspire the San Diego innovation ecosystem.
URL:https://www.innovate78.com/event/san-diego-startup-month-2/
LOCATION:CA
CATEGORIES:Startups
END:VEVENT
END:VCALENDAR