BEGIN:VCALENDAR
VERSION:2.0
PRODID:-//Innovate78 - ECPv6.0.13.1//NONSGML v1.0//EN
CALSCALE:GREGORIAN
METHOD:PUBLISH
X-ORIGINAL-URL:https://www.innovate78.com
X-WR-CALDESC:Events for Innovate78
REFRESH-INTERVAL;VALUE=DURATION:PT1H
X-Robots-Tag:noindex
X-PUBLISHED-TTL:PT1H
BEGIN:VTIMEZONE
TZID:America/Los_Angeles
BEGIN:DAYLIGHT
TZOFFSETFROM:-0800
TZOFFSETTO:-0700
TZNAME:PDT
DTSTART:20220313T100000
END:DAYLIGHT
BEGIN:STANDARD
TZOFFSETFROM:-0700
TZOFFSETTO:-0800
TZNAME:PST
DTSTART:20221106T090000
END:STANDARD
END:VTIMEZONE
BEGIN:VEVENT
DTSTART;TZID=America/Los_Angeles:20221006T173000
DTEND;TZID=America/Los_Angeles:20221006T193000
DTSTAMP:20260425T034228
CREATED:20220901T134337Z
LAST-MODIFIED:20220901T135605Z
UID:3039-1665077400-1665084600@www.innovate78.com
SUMMARY:Startup Funding: Learn From The Pros // Innovate78 SPOT Series
DESCRIPTION:Join us for another Innovate78 Spot series as we focus on raising funds from the perspective of the founder and investor (angel\, traditional and venture capital). We’ll look at: \n\nWhat is critical to focus on in the current environment?\nWhat to look for besides capital when finding the right partners?\nWhat alternatives are there besides family\, friends and angels when launching?\n\nInnovate78 is a partnership between the cities of Carlsbad\, Escondido\, Oceanside\, San Marcos and Vista to support the businesses of North County. Event hosted by San Diego North Economic Development Council with media partner\, Neil Bloom and Fresh Brewed Tech.
URL:https://www.innovate78.com/event/startup-funding-learn-from-the-pros-innovate78-spot-series/
LOCATION:The Film Hub\, 70 Eucalyptus Ave.\, Vista\, CA\, 92010\, United States
CATEGORIES:Startups
ATTACH;FMTTYPE=image/jpeg:https://www.innovate78.com/wp-content/uploads/2022/09/I78_SPOT_2022-10_web.jpg
END:VEVENT
END:VCALENDAR