BEGIN:VCALENDAR
VERSION:2.0
PRODID:-//Innovate78 - ECPv6.0.13.1//NONSGML v1.0//EN
CALSCALE:GREGORIAN
METHOD:PUBLISH
X-WR-CALNAME:Innovate78
X-ORIGINAL-URL:https://www.innovate78.com
X-WR-CALDESC:Events for Innovate78
REFRESH-INTERVAL;VALUE=DURATION:PT1H
X-Robots-Tag:noindex
X-PUBLISHED-TTL:PT1H
BEGIN:VTIMEZONE
TZID:America/Los_Angeles
BEGIN:DAYLIGHT
TZOFFSETFROM:-0800
TZOFFSETTO:-0700
TZNAME:PDT
DTSTART:20200308T100000
END:DAYLIGHT
BEGIN:STANDARD
TZOFFSETFROM:-0700
TZOFFSETTO:-0800
TZNAME:PST
DTSTART:20201101T090000
END:STANDARD
END:VTIMEZONE
BEGIN:VEVENT
DTSTART;TZID=America/Los_Angeles:20201205T180000
DTEND;TZID=America/Los_Angeles:20201228T220000
DTSTAMP:20260425T081613
CREATED:20201209T193628Z
LAST-MODIFIED:20201209T193628Z
UID:1881-1607191200-1609192800@www.innovate78.com
SUMMARY:Jingle Terrace Park
DESCRIPTION:This new\, annual\, free drive-thru event will feature holiday-themed light displays along the driving loop in Brengle Terrace Park. “Jingle Terrace Park” runs December 5 through December 28 and will be open 6 pm until 10 pm nightly. Visitors will be captivated by the displays of holiday lights depicting many of Vista’s special and unique amenities.
URL:https://www.innovate78.com/event/jingle-terrace-park/
ATTACH;FMTTYPE=image/png:https://www.innovate78.com/wp-content/uploads/2020/12/I78-Jingle-terrace-Park.png
END:VEVENT
BEGIN:VEVENT
DTSTART;TZID=America/Los_Angeles:20201117T173000
DTEND;TZID=America/Los_Angeles:20201117T190000
DTSTAMP:20260425T081613
CREATED:20201111T205125Z
LAST-MODIFIED:20201111T205125Z
UID:1823-1605634200-1605639600@www.innovate78.com
SUMMARY:San Diego tech hub: Become a Product Rebel! Learn How to Lay the Groundwork for Business Success
DESCRIPTION:If you’re looking to center your efforts around the most impactful problems\, prioritize the right customer needs\, enable durable decisions\, and build your company’s product and services development\, then the November SDTH meeting is for you!
URL:https://www.innovate78.com/event/san-diego-tech-hub-become-a-product-rebel-learn-how-to-lay-the-groundwork-for-business-success/
CATEGORIES:San Diego Tech Hub,Startups
ATTACH;FMTTYPE=image/jpeg:https://www.innovate78.com/wp-content/uploads/2020/11/SDTechhub.jpg
END:VEVENT
BEGIN:VEVENT
DTSTART;TZID=America/Los_Angeles:20201113T090000
DTEND;TZID=America/Los_Angeles:20201113T100000
DTSTAMP:20260425T081613
CREATED:20201102T220757Z
LAST-MODIFIED:20201102T220757Z
UID:1808-1605258000-1605261600@www.innovate78.com
SUMMARY:REPLACING OUTDATED MARKETING TACTICS WITH DIGITAL ELEVATION
DESCRIPTION:Digital marketing specialists Aaron Gobidas and Morgan Cohen from GoBe Rewarded join us to help you elevate your outdated marketing tactics. Hear some of the best ways to invest effectively in digital advertising on Friday\, November 13th from 9 AM – 10 AM on Zoom. In this session you will learn: \n– The importance of a good quality website \n– How to build credibility and reach more consumers \n– Off page listings and on page SEO \n– The importance of branding \n– How COVID-19 has changed the importance of online marketing \n– Paid advertising
URL:https://www.innovate78.com/event/replacing-outdated-marketing-tactics-with-digital-elevation/
ATTACH;FMTTYPE=image/jpeg:https://www.innovate78.com/wp-content/uploads/2020/11/campaign-creators-yktK2qaiVHI-unsplash.jpg
END:VEVENT
BEGIN:VEVENT
DTSTART;TZID=America/Los_Angeles:20201028T160000
DTEND;TZID=America/Los_Angeles:20201028T170000
DTSTAMP:20260425T081613
CREATED:20201027T224313Z
LAST-MODIFIED:20201027T224449Z
UID:1627-1603900800-1603904400@www.innovate78.com
SUMMARY:(virtual) Happy Hour with Innovate78 and Startup Month
DESCRIPTION:Innovate78 is a proud sponsor of San Diego Startup Month. Please join us tomorrow at 4:00 pm for the only North County-specific event as part of Startup Month. We’ll hear from three local entrepreneurs\, followed by a virtual networking session. Join here and BYOB!
URL:https://www.innovate78.com/event/virtual-happy-hour-with-innovate78-and-startup-month/
CATEGORIES:Startups
ATTACH;FMTTYPE=image/jpeg:https://www.innovate78.com/wp-content/uploads/2020/10/SDSM-HH-image-update3.jpg
END:VEVENT
BEGIN:VEVENT
DTSTART;TZID=America/Los_Angeles:20201020T083000
DTEND;TZID=America/Los_Angeles:20201020T173000
DTSTAMP:20260425T081613
CREATED:20201012T204704Z
LAST-MODIFIED:20201014T174022Z
UID:1443-1603182600-1603215000@www.innovate78.com
SUMMARY:Career Exploration Day & Virtual Career Fair
DESCRIPTION:Through its new initiative\, Advancing San Diego\, San Diego Regional EDC is hosting a FREE virtual industry event that will bring together employers and students of San Diego schools for a day of career exploration\, professional development\, company information sessions\, peer learning\, and networking. Open to local high school and college students\, the event welcomes those with diverse education backgrounds and majors to make valuable connections to San Diego companies and learn more about career opportunities in industries that continue to grow despite economic uncertainty.
URL:https://www.innovate78.com/event/career-exploration-day-virtual-career-fair/
CATEGORIES:Startups
ATTACH;FMTTYPE=image/jpeg:https://www.innovate78.com/wp-content/uploads/2020/10/joshua-hoehne-iggWDxHTAUQ-unsplash.jpg
END:VEVENT
BEGIN:VEVENT
DTSTART;TZID=America/Los_Angeles:20201020T083000
DTEND;TZID=America/Los_Angeles:20201020T093000
DTSTAMP:20260425T081613
CREATED:20201012T220232Z
LAST-MODIFIED:20201014T174101Z
UID:1457-1603182600-1603186200@www.innovate78.com
SUMMARY:International recruitment and talent retention in the new virtual world
DESCRIPTION:Over the last six months we have seen an unprecedented level of change across the workplace. For any business looking to expand internationally\, having the right recruitment and talent retention strategies in place is vital. Our experts will share how businesses can prepare for and understand best practices in relation to international recruitment and talent retention.
URL:https://www.innovate78.com/event/international-recruitment-and-talent-retention-in-the-new-virtual-world/
CATEGORIES:Startups
ATTACH;FMTTYPE=image/jpeg:https://www.innovate78.com/wp-content/uploads/2020/10/adeolu-eletu-E7RLgUjjazc-unsplash.jpg
END:VEVENT
BEGIN:VEVENT
DTSTART;TZID=America/Los_Angeles:20201008T110000
DTEND;TZID=America/Los_Angeles:20201008T120000
DTSTAMP:20260425T081613
CREATED:20201001T183247Z
LAST-MODIFIED:20201001T183247Z
UID:1172-1602154800-1602158400@www.innovate78.com
SUMMARY:Manufacturing Operations Roundtable October 2020
DESCRIPTION:
URL:https://www.innovate78.com/event/manufacturing-operations-roundtable-october-2020/
ATTACH;FMTTYPE=image/png:https://www.innovate78.com/wp-content/uploads/2020/10/Copy-of-NEW-ROUNDTABLE-GRAPHICS.png
END:VEVENT
BEGIN:VEVENT
DTSTART;TZID=America/Los_Angeles:20201001T173000
DTEND;TZID=America/Los_Angeles:20201001T193000
DTSTAMP:20260425T081613
CREATED:20201001T182924Z
LAST-MODIFIED:20201001T182924Z
UID:1167-1601573400-1601580600@www.innovate78.com
SUMMARY:San Diego Tech Hub October Event: HEADTRASH WORKSHOP: Cleaning Out The Junk That Stands Between You And Success
DESCRIPTION:
URL:https://www.innovate78.com/event/san-diego-tech-hub-october-event-headtrash-workshop-cleaning-out-the-junk-that-stands-between-you-and-success/
LOCATION:San Diego Tech Hub
CATEGORIES:San Diego Tech Hub,Startups
ATTACH;FMTTYPE=image/jpeg:https://www.innovate78.com/wp-content/uploads/2020/10/sdth-headtrash.jpg
END:VEVENT
BEGIN:VEVENT
DTSTART;VALUE=DATE:20201001
DTEND;VALUE=DATE:20201031
DTSTAMP:20260425T081613
CREATED:20201001T182343Z
LAST-MODIFIED:20201014T174116Z
UID:1162-1601510400-1604102399@www.innovate78.com
SUMMARY:San Diego Startup Month
DESCRIPTION:Coming to you virtually this October\, is the inaugural San Diego Startup Month\, a month-long series of virtual content and experiences that will bring together entrepreneurs\, investors\, mentors\, executives\, and talent to connect\, educate\, and inspire the San Diego innovation ecosystem. \nGet your ticket to the first event of its kind. You won’t want to miss it! https://www.sandiegostartupweek.com/#tickets
URL:https://www.innovate78.com/event/san-diego-startup-month/
CATEGORIES:Startups
ATTACH;FMTTYPE=image/jpeg:https://www.innovate78.com/wp-content/uploads/2020/10/sdsm.jpg
END:VEVENT
END:VCALENDAR