BEGIN:VCALENDAR
VERSION:2.0
PRODID:-//Innovate78 - ECPv6.0.13.1//NONSGML v1.0//EN
CALSCALE:GREGORIAN
METHOD:PUBLISH
X-WR-CALNAME:Innovate78
X-ORIGINAL-URL:https://www.innovate78.com
X-WR-CALDESC:Events for Innovate78
REFRESH-INTERVAL;VALUE=DURATION:PT1H
X-Robots-Tag:noindex
X-PUBLISHED-TTL:PT1H
BEGIN:VTIMEZONE
TZID:America/Los_Angeles
BEGIN:DAYLIGHT
TZOFFSETFROM:-0800
TZOFFSETTO:-0700
TZNAME:PDT
DTSTART:20210314T100000
END:DAYLIGHT
BEGIN:STANDARD
TZOFFSETFROM:-0700
TZOFFSETTO:-0800
TZNAME:PST
DTSTART:20211107T090000
END:STANDARD
END:VTIMEZONE
BEGIN:VEVENT
DTSTART;TZID=America/Los_Angeles:20210421T140000
DTEND;TZID=America/Los_Angeles:20210421T150000
DTSTAMP:20260424T202623
CREATED:20210330T221134Z
LAST-MODIFIED:20210330T221134Z
UID:2273-1619013600-1619017200@www.innovate78.com
SUMMARY:Carlsbad Chamber of Commerce Green Business EXPO
DESCRIPTION:
URL:https://www.innovate78.com/event/carlsbad-chamber-of-commerce-green-business-expo/
LOCATION:CA
END:VEVENT
BEGIN:VEVENT
DTSTART;TZID=America/Los_Angeles:20210422T180000
DTEND;TZID=America/Los_Angeles:20210422T200000
DTSTAMP:20260424T202623
CREATED:20210312T195006Z
LAST-MODIFIED:20210312T195006Z
UID:2232-1619114400-1619121600@www.innovate78.com
SUMMARY:TERI Players Virtual Concert: A Smile Is Never Far Away
DESCRIPTION:
URL:https://www.innovate78.com/event/teri-players-virtual-concert-a-smile-is-never-far-away/
LOCATION:CA
END:VEVENT
BEGIN:VEVENT
DTSTART;VALUE=DATE:20210424
DTEND;VALUE=DATE:20210425
DTSTAMP:20260424T202623
CREATED:20210422T173149Z
LAST-MODIFIED:20210422T173149Z
UID:2373-1619222400-1619308799@www.innovate78.com
SUMMARY:CSUSM’s Super STEM Saturday at Home
DESCRIPTION:Join thousands of North County families for a one-day virtual festival filled with hands-on DIY experiments\, live demonstrations and exciting day-of challenges (complete with cool prizes) that will ignite your curiosity and deepen your love for STEM—all from the comfort of your home.
URL:https://www.innovate78.com/event/csusms-super-stem-saturday-at-home/
LOCATION:CA
END:VEVENT
BEGIN:VEVENT
DTSTART;TZID=America/Los_Angeles:20210429T140000
DTEND;TZID=America/Los_Angeles:20210429T160000
DTSTAMP:20260424T202623
CREATED:20210421T194332Z
LAST-MODIFIED:20210421T194332Z
UID:2364-1619704800-1619712000@www.innovate78.com
SUMMARY:Talent Development in Manufacturing: How to build your pipeline
DESCRIPTION:Join the San Diego North Economic Development Council and Tech San Diego to hear about a North County manufacturer and its strategic approach to sourcing talent from local higher education institutions.
URL:https://www.innovate78.com/event/talent-development-in-manufacturing-how-to-build-your-pipeline/
LOCATION:CA
END:VEVENT
END:VCALENDAR