BEGIN:VCALENDAR
VERSION:2.0
PRODID:-//Innovate78 - ECPv6.0.13.1//NONSGML v1.0//EN
CALSCALE:GREGORIAN
METHOD:PUBLISH
X-ORIGINAL-URL:https://www.innovate78.com
X-WR-CALDESC:Events for Innovate78
REFRESH-INTERVAL;VALUE=DURATION:PT1H
X-Robots-Tag:noindex
X-PUBLISHED-TTL:PT1H
BEGIN:VTIMEZONE
TZID:America/Los_Angeles
BEGIN:DAYLIGHT
TZOFFSETFROM:-0800
TZOFFSETTO:-0700
TZNAME:PDT
DTSTART:20220313T100000
END:DAYLIGHT
BEGIN:STANDARD
TZOFFSETFROM:-0700
TZOFFSETTO:-0800
TZNAME:PST
DTSTART:20221106T090000
END:STANDARD
END:VTIMEZONE
BEGIN:VEVENT
DTSTART;TZID=America/Los_Angeles:20220407T173000
DTEND;TZID=America/Los_Angeles:20220407T193000
DTSTAMP:20260424T065531
CREATED:20220315T212534Z
LAST-MODIFIED:20220315T212559Z
UID:2965-1649352600-1649359800@www.innovate78.com
SUMMARY:Startup Series // Startup and Innovation on the 78 Corridor
DESCRIPTION:This year’s series will follow the life cycle of new businesses – beginning with best practices for securing startup funding.\nThe landscape for startup fundraising has fundamentally changed over the past two years. San Diego’s angel investor ecosystem is richer than ever\, and the success of a variety of unicorn startups has sparked the interest of venture capital firms beyond the region’s traditional startup industries\, such as biotechnology and software.  \nJoin us for the return of in-person Startup Innovate78 programing as we hear from a panel of founders and funders about: \n\nLessons learned in raising first and subsequent rounds of capital\nUnique value propositions funders look for when searching for successful companies\nLessons learned from first-time founders and how founders can stand out \nBest practices on leveraging local assets and knowledge to thrive within the local startup landscape\n\nPanelists: \n\nOrianna Bretschger\, Aquacycl\, Escondido\nErik Groset\, BetFully\, Carlsbad\nTodd Harris\, Tyra Bioscience\, Carlsbad\n\nModerator: \n\nCaitlin Wege\, Tech Coast Angels\n\nNetworking Table Topics: \n\nAngel investing \nNon-dilutive funding (grants\, loans\, tax credits)\nHiring and recruiting \nPitch practice and feedback \nStartup incubators and accelerators\n\nCompliance with current COVID-19 guidelines will be required at this event.
URL:https://www.innovate78.com/event/startup-040722/
LOCATION:Cal State San Marcos’ Innovation Hub\, 288 Campus Way\, Suite 102\, San Marcos\, CA\, 92078\, United States
END:VEVENT
END:VCALENDAR