BEGIN:VCALENDAR
VERSION:2.0
PRODID:-//Innovate78 - ECPv6.0.13.1//NONSGML v1.0//EN
CALSCALE:GREGORIAN
METHOD:PUBLISH
X-WR-CALNAME:Innovate78
X-ORIGINAL-URL:https://www.innovate78.com
X-WR-CALDESC:Events for Innovate78
REFRESH-INTERVAL;VALUE=DURATION:PT1H
X-Robots-Tag:noindex
X-PUBLISHED-TTL:PT1H
BEGIN:VTIMEZONE
TZID:America/Los_Angeles
BEGIN:DAYLIGHT
TZOFFSETFROM:-0800
TZOFFSETTO:-0700
TZNAME:PDT
DTSTART:20220313T100000
END:DAYLIGHT
BEGIN:STANDARD
TZOFFSETFROM:-0700
TZOFFSETTO:-0800
TZNAME:PST
DTSTART:20221106T090000
END:STANDARD
END:VTIMEZONE
BEGIN:VEVENT
DTSTART;TZID=America/Los_Angeles:20220714T173000
DTEND;TZID=America/Los_Angeles:20220714T193000
DTSTAMP:20260424T025741
CREATED:20220606T130222Z
LAST-MODIFIED:20220606T131002Z
UID:2985-1657819800-1657827000@www.innovate78.com
SUMMARY:SPOT Startup Series // Recruitment + Retention
DESCRIPTION:Businesses face many challenges\, including maximizing resources and talent. Regardless of what stage a company is in\, leadership’s goal is to scout\, recruit\, hire and onboard to scale repeatable business operations. From talent acquisition\, work policies and company culture development\, companies spend a large part of their efforts around human resource functions. This event will share learnings\, resources and expertise to educate entrepreneurs and their teams. Our panel of HR experts will discuss: \n\nWhen to make that first full-time hire \nTalent acquisition and retention\nEstablishing an appealing company culture\nOvercoming common human resource challenges\n\nPanelists include:\n\nHema Crockett\, Gig Talent\, Carlsbad\nDominique McGill\, HR Bar\, San Diego\nSean Ring\, Fulcrum Workforce Solutions\, San Diego\nMike Roberts\, Creating Coding Careers\, Escondido\n\nRegister at EventBrite
URL:https://www.innovate78.com/event/spot-startup-series-recruitment-retention/
LOCATION:William Wagner Aquatic and Events Center 3302 Senior Center Drive Oceanside\, CA 92056\, William Wagner Aquatic and Events Center\, 3302 Senior Center Drive\, Oceanside\, CA\, 92054\, United States
CATEGORIES:Startups
END:VEVENT
END:VCALENDAR